BEGIN:VCALENDAR
VERSION:2.0
PRODID:-//Tukios.com/
BEGIN:VEVENT
UID:85daa7d2-da27-4610-820c-5217a88be4f3@www.haaselockwoodfhs.com
DTSTAMP:20260422T195101Z
DTSTART:20260425T163000Z
DTEND:20260425T173000Z
SUMMARY:Memorial Service
DESCRIPTION:
URL:https://www.haaselockwoodfhs.com/obituaries/charles-powell
LOCATION:First Congregational Church 76 South Wisconsin Street  Elkhorn 
	WI 53121
GEO:42.6705115;-88.5437873
END:VEVENT
END:VCALENDAR