BEGIN:VCALENDAR
VERSION:2.0
PRODID:-//Tukios.com/
BEGIN:VEVENT
UID:f0d97ec6-9aa5-496b-8143-7b1ab7a3adca@www.haaselockwoodfhs.com
DTSTAMP:20260421T214857Z
DTSTART:20260425T150000Z
DTEND:20260425T170000Z
SUMMARY:Visitation
DESCRIPTION:
URL:https://www.haaselockwoodfhs.com/obituaries/eileen-johnson
LOCATION: 701 North Lake Avenue  Twin Lakes WI 53181
GEO:42.5386572;-88.2485901
END:VEVENT
END:VCALENDAR