BEGIN:VCALENDAR
VERSION:2.0
PRODID:-//Tukios.com/
BEGIN:VEVENT
UID:24dd830c-63d4-4466-bdbc-cd201b109414@www.haaselockwoodfhs.com
DTSTAMP:20260421T215328Z
DTSTART:20260425T170000Z
DTEND:20260425T180000Z
SUMMARY:Mass
DESCRIPTION:
URL:https://www.haaselockwoodfhs.com/obituaries/eileen-johnson
LOCATION: 701 North Lake Avenue  Twin Lakes WI 53181
GEO:42.5386572;-88.2485901
END:VEVENT
END:VCALENDAR