BEGIN:VCALENDAR
VERSION:2.0
PRODID:-//Tukios.com/
BEGIN:VEVENT
UID:6b37dd00-39ef-4a51-96e5-972b476b6e46@www.haaselockwoodfhs.com
DTSTAMP:20260420T211638Z
DTSTART:20260619T150000Z
DTEND:20260619T160000Z
SUMMARY:Visitation
DESCRIPTION:
URL:https://www.haaselockwoodfhs.com/obituaries/linda-dunn
LOCATION:St. Patrick Catholic Church 107 West Walworth Street  Elkhorn WI 
	53121
GEO:42.6715048;-88.5457932
END:VEVENT
END:VCALENDAR