BEGIN:VCALENDAR
VERSION:2.0
PRODID:-//Tukios.com/
BEGIN:VEVENT
UID:1c8e9b22-3db1-44d5-8b4e-098d5fdb92f1@www.haaselockwoodfhs.com
DTSTAMP:20260420T212145Z
DTSTART:20260619T160000Z
DTEND:20260619T170000Z
SUMMARY:Funeral Service
DESCRIPTION:
URL:https://www.haaselockwoodfhs.com/obituaries/linda-dunn
LOCATION:St. Patrick Catholic Church 107 West Walworth Street  Elkhorn WI 
	53121
GEO:42.6715048;-88.5457932
END:VEVENT
END:VCALENDAR